BEGIN:VCALENDAR
VERSION:2.0
PRODID:-//Hutton &amp; Hutton/EPL//NONSGML v1.0//EN
METHOD:PUBLISH
BEGIN:VEVENT
DTSTART:20200229T130000
DTEND:20200229T133000
LOCATION:63 Henry Street Kalinga, QLD 4030
URL:https://huttonandhutton.com.au/property/r2-2178738-kalinga-qld-4030/
TRANSP:OPAQUE
SEQUENCE:0
UID:127331582921094
DTSTAMP:20200228T101814Z
SUMMARY:Inspect - A Wise Investment on Henry St (THE Street in Kalinga!)
DESCRIPTION:For the buyer with a vision: transform this character home on 809m2 with Shaw Park to the rear and create your own sanctuary away from the urban hustle and bustle.\n\nIt’s actually a home that’s very liveable as is\, with its enormous back deck\, polished floors\, solar power and 2 car garage. The lawn and gardens are easy care\, and the driveway makes parking simple.\n\nThe ancient trees in Shaw Park at the rear frame the home and give shade in the afternoons\, while the kids will love playing in Kalinga Park when they come home from school.\n\nKalinga is an elegant suburb where the residents are very house-proud and love being part of a friendly community. They enjoy an excellent level of amenity (Toombul\, transport\, premiere schools\, Kalinga Park) as well as a small-town quality of life.\n\nYOU’LL LOVE . . .\n + Living in a hive of schools\, cafes and shops (Shambala Espresso is just around the corner from you!)\n\n + Being in a Res A zone means plenty of blue sky to add to this neighbourhood’s charm.\n\n + Having a local park just down the road that makes a great place for kids to run and birthday parties.\n\n + Of course\, the main thing you’ll love is having a large block to add a pool\, extend the home\, and just enjoy coming home to peace and quiet after a hectic day at the office.\n\nINSIDER’S SECRET . . .\n + Locals love Steak Night Wednesdays at The Wooden Horse on Junction Rd – it’s a must-do Kalinga experience!
PRIORITY:1
CLASS:PUBLIC
BEGIN:VALARM
TRIGGER:-PT10080M
ACTION:DISPLAY
DESCRIPTION:Reminder
END:VALARM
END:VEVENT
END:VCALENDAR
