BEGIN:VCALENDAR
VERSION:2.0
PRODID:-//Hutton &amp; Hutton/EPL//NONSGML v1.0//EN
METHOD:PUBLISH
BEGIN:VEVENT
DTSTART:20200226T174500
DTEND:20200226T181500
LOCATION:58 Burlington Street East Brisbane, QLD 4169
URL:https://huttonandhutton.com.au/property/r2-2168395-east-brisbane-qld-4169/
TRANSP:OPAQUE
SEQUENCE:0
UID:128741582920617
DTSTAMP:20200228T101017Z
SUMMARY:Inspect - An architecturally designed inner-city sanctuary
DESCRIPTION:Auction Location: On site. \n\nArchitecturally designed with minimal maintenance in mind to create a haven for relaxation\, the soul of this home is all about entertaining\, whether it be poolside on a grand scale\, or breakfast in bed surrounded by your fluffy white pillows in the fabulous master suite (coffee compliments of your built-in coffee machine!)\n\nThe most popular room in the house will most likely be the open plan kitchen-dining\, that opens out into the expansive outdoor entertaining area. Built for all seasons\, during hot weather of course an alfresco dinner and pool party is in order\; when it’s cool\, light up the fireplace and unwind with a glass of your favourite red.\n\nThere is space for everyone here\, with large bedrooms\, luxurious bathrooms and multiple living areas spread out over two levels. This home has been meticulously designed to ensure that you will love living in your own inner-city sanctuary.\n\nYOU’LL LOVE . . .\n\n + The extraordinary amount of bench space and storage in the well-appointed kitchen\n\n + Living in an immaculate home on a tree-lined street with a northerly aspect\n\n + The high-spec interiors\, think custom cabinetry\, outdoor bench seating\, Sonos\, Crimsafe\n\n + Multiple breakout zones\, a generous second living room and a designated home office/5th bedroom\n\n + The media station that slips behind sliding doors\, landscaped gardens and water feature\n\n + Fans and ducted aircon to keep you cool\, or take a splash in the pool\n\n+ The abundance of storage this home offers\, plus two large water tanks\n\n+ Churchie is within walking distance\, so no more sitting in traffic during school runs!\n\nINSIDER’S SECRET . . .\n\n + You are close to everything here and there are plenty of dining options to choose from! The Smug Fig Café is only 3 minutes away if you’re in need of a good coffee and breakfast – the bonus is you can shop at the nursery and home wares store that is attached after your meal!
PRIORITY:1
CLASS:PUBLIC
BEGIN:VALARM
TRIGGER:-PT10080M
ACTION:DISPLAY
DESCRIPTION:Reminder
END:VALARM
END:VEVENT
END:VCALENDAR
